BEGIN:VCALENDAR
VERSION:2.0
PRODID:-//Drupal iCal API//EN
X-WR-CALNAME:Events items teaser
X-WR-TIMEZONE:America/Toronto
BEGIN:VTIMEZONE
TZID:America/Toronto
X-LIC-LOCATION:America/Toronto
BEGIN:DAYLIGHT
TZNAME:EDT
TZOFFSETFROM:-0500
TZOFFSETTO:-0400
DTSTART:20130310T070000
END:DAYLIGHT
BEGIN:STANDARD
TZNAME:EST
TZOFFSETFROM:-0400
TZOFFSETTO:-0500
DTSTART:20121104T060000
END:STANDARD
END:VTIMEZONE
BEGIN:VEVENT
UID:69dd2b2eabfc4
DTSTART;TZID=America/Toronto:20130906T173000
SEQUENCE:0
TRANSP:TRANSPARENT
DTEND;TZID=America/Toronto:20130906T173000
URL:https://uwaterloo.ca/master-of-public-service/events/mps-welcome-social
LOCATION:Morty's Pub 272 King Street North Waterloo ON N2J 4V2 Canada
SUMMARY:MPS Welcome Social
CLASS:PUBLIC
DESCRIPTION:Organized by Lee Chandler\, MPSA Director of Social Affairs\, t
 he MPS\nWelcome Social is a great opportunity to mingle with your colleagu
 es\,\nmeet fellow MPSers\, and enjoy some casual food and drinks before th
 e\nsemester gets underway. We hope to see you there! Senior students and\n
 alumni are very welcome too. 
DTSTAMP:20260413T174310Z
END:VEVENT
END:VCALENDAR