BEGIN:VCALENDAR
VERSION:2.0
PRODID:-//Drupal iCal API//EN
X-WR-CALNAME:Events items teaser
X-WR-TIMEZONE:America/Toronto
BEGIN:VTIMEZONE
TZID:America/Toronto
X-LIC-LOCATION:America/Toronto
BEGIN:DAYLIGHT
TZNAME:EDT
TZOFFSETFROM:-0500
TZOFFSETTO:-0400
DTSTART:20130310T070000
END:DAYLIGHT
BEGIN:STANDARD
TZNAME:EST
TZOFFSETFROM:-0400
TZOFFSETTO:-0500
DTSTART:20131103T060000
END:STANDARD
END:VTIMEZONE
BEGIN:VEVENT
UID:69dd2b2ba24f2
DTSTART;TZID=America/Toronto:20140110T120000
SEQUENCE:0
TRANSP:TRANSPARENT
DTEND;TZID=America/Toronto:20140110T150000
URL:https://uwaterloo.ca/master-of-public-service/events/mps-talks
SUMMARY:MPS Talks
CLASS:PUBLIC
DESCRIPTION:TALKS FOR NEW STUDENTS BY SENIOR STUDENTS - This afternoon will
 \nfeature life/work lessons from senior students about how to be a\nsucces
 s in the public service before new students embark on their\nco-op intervi
 ews and subsequent government careers. There's a lunch\nmix and mingle du
 ring the lunch hour (12 -1). The talks will begin at\n1:00 p.m. \n\nFEATU
 RING (IN ALPHABETICAL ORDER):
DTSTAMP:20260413T174307Z
END:VEVENT
END:VCALENDAR