BEGIN:VCALENDAR
VERSION:2.0
PRODID:-//Drupal iCal API//EN
X-WR-CALNAME:Events items teaser
X-WR-TIMEZONE:America/Toronto
BEGIN:VTIMEZONE
TZID:America/Toronto
X-LIC-LOCATION:America/Toronto
BEGIN:DAYLIGHT
TZNAME:EDT
TZOFFSETFROM:-0500
TZOFFSETTO:-0400
DTSTART:20140309T070000
END:DAYLIGHT
BEGIN:STANDARD
TZNAME:EST
TZOFFSETFROM:-0400
TZOFFSETTO:-0500
DTSTART:20141102T060000
END:STANDARD
END:VTIMEZONE
BEGIN:VEVENT
UID:69ed640402ff8
DTSTART;TZID=America/Toronto:20150115T163000
SEQUENCE:0
TRANSP:TRANSPARENT
DTEND;TZID=America/Toronto:20150115T163000
URL:https://uwaterloo.ca/math/events/graduate-studies-information-session-w
 inter-2015
LOCATION:DC - William G. Davis Computer Research Centre 200 University Aven
 ue West Room 1304 Waterloo ON N2L 3G1 Canada
SUMMARY:Graduate Studies Information Session Winter 2015
CLASS:PUBLIC
DESCRIPTION:Second\, third and fourth-year undergraduate students are invit
 ed to\ncome out and learn more about graduate studies in Faculty of\nMathe
 matics.\n\nThere will be an overview of Graduate Studies in the Faculty of
 \nMathematics including a brief description from:\n\n* Applied Mathematics
 \n * Combinatorics &amp; Optimization\n * Computational Mathematics\n * Comput
 er Science\n * Pure Mathematics\n * Statistics &amp; Actuarial Science\n\nTalk
  with departmental representatives and ask important questions.
DTSTAMP:20260426T010156Z
END:VEVENT
END:VCALENDAR