BEGIN:VCALENDAR
VERSION:2.0
PRODID:-//Drupal iCal API//EN
X-WR-CALNAME:Events items teaser
X-WR-TIMEZONE:America/Toronto
BEGIN:VTIMEZONE
TZID:America/Toronto
X-LIC-LOCATION:America/Toronto
BEGIN:DAYLIGHT
TZNAME:EDT
TZOFFSETFROM:-0500
TZOFFSETTO:-0400
DTSTART:20140309T070000
END:DAYLIGHT
BEGIN:STANDARD
TZNAME:EST
TZOFFSETFROM:-0400
TZOFFSETTO:-0500
DTSTART:20141102T060000
END:STANDARD
END:VTIMEZONE
BEGIN:VEVENT
UID:69ed632005c24
DTSTART;TZID=America/Toronto:20150129T173000
SEQUENCE:0
TRANSP:TRANSPARENT
DTEND;TZID=America/Toronto:20150129T173000
URL:https://uwaterloo.ca/math/events/math-faculty-awards-ceremony-2015
SUMMARY:Math Faculty Awards Ceremony 2015
CLASS:PUBLIC
DESCRIPTION:A brief reception will begin at 5:30 pm followed by dinner at 6
 :00 pm.\n\nAt the ceremony\, we will honour students who have established\
 noutstanding academic records in a number of areas. During the evening\,\n
 we will honour first year entrance award winners\, upper-year Senate\nScho
 larship winners\, students who have done well in university\ncompetitions\
 , and recipients of numerous one-time awards.\n\nTHIS EVENT IS BY INVITATI
 ON ONLY.\n\nAdditional information:
DTSTAMP:20260426T005808Z
END:VEVENT
END:VCALENDAR