BEGIN:VCALENDAR
VERSION:2.0
PRODID:-//Drupal iCal API//EN
X-WR-CALNAME:Events items teaser
X-WR-TIMEZONE:America/Toronto
BEGIN:VTIMEZONE
TZID:America/Toronto
X-LIC-LOCATION:America/Toronto
BEGIN:DAYLIGHT
TZNAME:EDT
TZOFFSETFROM:-0500
TZOFFSETTO:-0400
DTSTART:20140309T070000
END:DAYLIGHT
BEGIN:STANDARD
TZNAME:EST
TZOFFSETFROM:-0400
TZOFFSETTO:-0500
DTSTART:20141102T060000
END:STANDARD
END:VTIMEZONE
BEGIN:VEVENT
UID:69e3a27b4551a
DTSTART;TZID=America/Toronto:20150227T193000
SEQUENCE:0
TRANSP:TRANSPARENT
DTEND;TZID=America/Toronto:20150227T193000
URL:https://uwaterloo.ca/math/events/bridges-lecture-mathematics-and-democr
 acy
LOCATION:STJ - St. Jerome's University 290 Westmount Road North Siegfried H
 all Waterloo ON N2L 3G3 Canada
SUMMARY:Bridges Lecture - Mathematics and democracy
CLASS:PUBLIC
DESCRIPTION:SPEAKERS\n\n* Steven J. Brams [http://politics.as.nyu.edu/objec
 t/stevenbrams]\,\nNew York University\n * D. Marc Kilgour [http://legacy.w
 lu.ca/homepage.php?grp_id=138]\,\nWilfrid Laurier University\n\nTALK ABSTR
 ACT\n\nA multitude of election systems have been proposed for choosing bot
 h\nsingle winners (for mayor\, governor\, or president) or multiple winner
 s\n(to a council or committee). Those based on approval voting\, which\nal
 lows voters to vote for more than one candidate or party\, are\nespecially
  appealing.
DTSTAMP:20260418T152547Z
END:VEVENT
END:VCALENDAR