BEGIN:VCALENDAR
VERSION:2.0
PRODID:-//Drupal iCal API//EN
X-WR-CALNAME:Events items teaser
X-WR-TIMEZONE:America/Toronto
BEGIN:VTIMEZONE
TZID:America/Toronto
X-LIC-LOCATION:America/Toronto
BEGIN:DAYLIGHT
TZNAME:EDT
TZOFFSETFROM:-0500
TZOFFSETTO:-0400
DTSTART:20140309T070000
END:DAYLIGHT
BEGIN:STANDARD
TZNAME:EST
TZOFFSETFROM:-0400
TZOFFSETTO:-0500
DTSTART:20141102T060000
END:STANDARD
END:VTIMEZONE
BEGIN:VEVENT
UID:69ed357546646
DTSTART;TZID=America/Toronto:20150303T133000
SEQUENCE:0
TRANSP:TRANSPARENT
DTEND;TZID=America/Toronto:20150303T133000
URL:https://uwaterloo.ca/math/events/three-minute-thesis-3mt-competition-ma
 th-faculty-heat-2015
LOCATION:DC - William G. Davis Computer Research Centre 200 University Aven
 ue West Room 1302 Waterloo ON N2L 3G1 Canada
SUMMARY:Three Minute Thesis (3MT) Competition Math Faculty Heat 2015
CLASS:PUBLIC
DESCRIPTION:[Three Minute Thesis Competition logo.] Join us for the Faculty
  of\nMathematics heats of the Three Minute Thesis (3MT) Competition\n[/mat
 h/node/308]. Everyone welcome!\n\nThe winner will go on to compete in the 
 University of Waterloo 3MT\ncompetition\, held on April 2. Come out and ch
 eer on the graduate\nstudents.
DTSTAMP:20260425T214317Z
END:VEVENT
END:VCALENDAR