BEGIN:VCALENDAR
VERSION:2.0
PRODID:-//Drupal iCal API//EN
X-WR-CALNAME:Events items teaser
X-WR-TIMEZONE:America/Toronto
BEGIN:VTIMEZONE
TZID:America/Toronto
X-LIC-LOCATION:America/Toronto
BEGIN:DAYLIGHT
TZNAME:EDT
TZOFFSETFROM:-0500
TZOFFSETTO:-0400
DTSTART:20150308T070000
END:DAYLIGHT
BEGIN:STANDARD
TZNAME:EST
TZOFFSETFROM:-0400
TZOFFSETTO:-0500
DTSTART:20141102T060000
END:STANDARD
END:VTIMEZONE
BEGIN:VEVENT
UID:69e3a27b1a070
DTSTART;TZID=America/Toronto:20150313T193000
SEQUENCE:0
TRANSP:TRANSPARENT
DTEND;TZID=America/Toronto:20150313T193000
URL:https://uwaterloo.ca/math/events/bridges-lecture-dancing-math-complex-s
 ystems
LOCATION:STJ - St. Jerome's University 290 Westmount Road North Siegfried H
 all Waterloo ON N2L 3G3 Canada
SUMMARY:Bridges Lecture - Dancing the math of complex systems
CLASS:PUBLIC
DESCRIPTION:SPEAKERS
DTSTAMP:20260418T152547Z
END:VEVENT
END:VCALENDAR