BEGIN:VCALENDAR
VERSION:2.0
PRODID:-//Drupal iCal API//EN
X-WR-CALNAME:Events items teaser
X-WR-TIMEZONE:America/Toronto
BEGIN:VTIMEZONE
TZID:America/Toronto
X-LIC-LOCATION:America/Toronto
BEGIN:DAYLIGHT
TZNAME:EDT
TZOFFSETFROM:-0500
TZOFFSETTO:-0400
DTSTART:20150308T070000
END:DAYLIGHT
BEGIN:STANDARD
TZNAME:EST
TZOFFSETFROM:-0400
TZOFFSETTO:-0500
DTSTART:20141102T060000
END:STANDARD
END:VTIMEZONE
BEGIN:VEVENT
UID:69e66a7532d28
DTSTART;TZID=America/Toronto:20151002T190000
SEQUENCE:0
TRANSP:TRANSPARENT
DTEND;TZID=America/Toronto:20151003T180000
URL:https://uwaterloo.ca/math/events/40th-mathematics-reunion-class-1975
LOCATION:University of Waterloo 200 University Avenue West Waterloo ON N2L 
 3G1 Canada
SUMMARY:40th Mathematics Reunion - Class of 1975
CLASS:PUBLIC
DESCRIPTION:[math computer room] We want you to come back to campus and CEL
 EBRATE\n40 YEARS!
DTSTAMP:20260420T180333Z
END:VEVENT
END:VCALENDAR