BEGIN:VCALENDAR
VERSION:2.0
PRODID:-//Drupal iCal API//EN
X-WR-CALNAME:Events items teaser
X-WR-TIMEZONE:America/Toronto
BEGIN:VTIMEZONE
TZID:America/Toronto
X-LIC-LOCATION:America/Toronto
BEGIN:DAYLIGHT
TZNAME:EDT
TZOFFSETFROM:-0500
TZOFFSETTO:-0400
DTSTART:20150308T070000
END:DAYLIGHT
BEGIN:STANDARD
TZNAME:EST
TZOFFSETFROM:-0400
TZOFFSETTO:-0500
DTSTART:20141102T060000
END:STANDARD
END:VTIMEZONE
BEGIN:VEVENT
UID:69ed6402882ab
DTSTART;TZID=America/Toronto:20151017T100000
SEQUENCE:0
TRANSP:TRANSPARENT
DTEND;TZID=America/Toronto:20151017T190000
URL:https://uwaterloo.ca/math/events/student-portal-hackathon
LOCATION:SLC - Student Life Centre 200 University Avenue West Multi-purpose
  room Waterloo ON N2L 3G1 Canada
SUMMARY:Student portal hackathon
CLASS:PUBLIC
DESCRIPTION:[students and computers]\n\nWe invite students with different t
 echnical backgrounds and skill\nlevels to come together to build cool\, in
 formative widgets in the\nstudent portal. We'll have developers from the t
 eam\, mentors\, and\nresources onsite to help you\, plenty of food and dr
 inks... there's\nreally no better way to spend a Saturday on campus!
DTSTAMP:20260426T010154Z
END:VEVENT
END:VCALENDAR