BEGIN:VCALENDAR
VERSION:2.0
PRODID:-//Drupal iCal API//EN
X-WR-CALNAME:Events items teaser
X-WR-TIMEZONE:America/Toronto
BEGIN:VTIMEZONE
TZID:America/Toronto
X-LIC-LOCATION:America/Toronto
BEGIN:DAYLIGHT
TZNAME:EDT
TZOFFSETFROM:-0500
TZOFFSETTO:-0400
DTSTART:20150308T070000
END:DAYLIGHT
BEGIN:STANDARD
TZNAME:EST
TZOFFSETFROM:-0400
TZOFFSETTO:-0500
DTSTART:20151101T060000
END:STANDARD
END:VTIMEZONE
BEGIN:VEVENT
UID:69e7a64e5c852
DTSTART;TZID=America/Toronto:20151217T170000
SEQUENCE:0
TRANSP:TRANSPARENT
DTEND;TZID=America/Toronto:20151217T170000
URL:https://uwaterloo.ca/math/events/calgary-alumni-chapter-thirsty-third-t
 hursday
SUMMARY:Calgary Alumni Chapter Thirsty Third Thursday
CLASS:PUBLIC
DESCRIPTION:[calgary chapter] Join the uWaterloo Alumni Calgary Chapter (UW
 AC)\nand current Waterloo co-op students working in Calgary for an evening
 \nof drinks\, great food and even better conversation. Learn about\nupcomi
 ng events being hosted by UWAC\, hear updates from campus and\noffer feedb
 ack about future alumni activities in Calgary.\n\nJoin us at our new locat
 ion:
DTSTAMP:20260421T163110Z
END:VEVENT
END:VCALENDAR