BEGIN:VCALENDAR
VERSION:2.0
PRODID:-//Drupal iCal API//EN
X-WR-CALNAME:Events items teaser
X-WR-TIMEZONE:America/Toronto
BEGIN:VTIMEZONE
TZID:America/Toronto
X-LIC-LOCATION:America/Toronto
BEGIN:DAYLIGHT
TZNAME:EDT
TZOFFSETFROM:-0500
TZOFFSETTO:-0400
DTSTART:20150308T070000
END:DAYLIGHT
BEGIN:STANDARD
TZNAME:EST
TZOFFSETFROM:-0400
TZOFFSETTO:-0500
DTSTART:20151101T060000
END:STANDARD
END:VTIMEZONE
BEGIN:VEVENT
UID:69ed72347e3de
DTSTART;TZID=America/Toronto:20160203T170000
SEQUENCE:0
TRANSP:TRANSPARENT
DTEND;TZID=America/Toronto:20160203T190000
URL:https://uwaterloo.ca/math/events/applied-mathematics-alumni-career-pane
 l-0
LOCATION:MC - Mathematics &amp; Computer Building 200 University Avenue West MC
  2017 (ROOM CHANGE) Waterloo ON N2L 3G1 Canada
SUMMARY:Applied Mathematics Alumni Career Panel
CLASS:PUBLIC
DESCRIPTION:APPLIED MATHEMATICS ALUMNI CAREER PANEL\n\n [equations]\n\n* Ne
 twork with accomplished Mathematics alumni.\n * Learn about different care
 ers.\n * How to land your dream job.\n * Find out what employers want to h
 ear during interviews.\n\nComplimentary refreshments provided. Seating is 
 limited. Everyone\nwelcome! RSVP at mathalumni@uwaterloo.ca.
DTSTAMP:20260426T020228Z
END:VEVENT
END:VCALENDAR