BEGIN:VCALENDAR
VERSION:2.0
PRODID:-//Drupal iCal API//EN
X-WR-CALNAME:Events items teaser
X-WR-TIMEZONE:America/Toronto
BEGIN:VTIMEZONE
TZID:America/Toronto
X-LIC-LOCATION:America/Toronto
BEGIN:DAYLIGHT
TZNAME:EDT
TZOFFSETFROM:-0500
TZOFFSETTO:-0400
DTSTART:20230312T070000
END:DAYLIGHT
BEGIN:STANDARD
TZNAME:EST
TZOFFSETFROM:-0400
TZOFFSETTO:-0500
DTSTART:20221106T060000
END:STANDARD
END:VTIMEZONE
BEGIN:VEVENT
UID:69ed8174898f1
DTSTART;TZID=America/Toronto:20230921T140000
SEQUENCE:0
TRANSP:TRANSPARENT
DTEND;TZID=America/Toronto:20230921T153000
URL:https://uwaterloo.ca/math/events/key-clues-kick
LOCATION:DC - William G. Davis Computer Research Centre Room 1301 200 Unive
 rsity Avenue West Waterloo ON N2L 3G1 Canada
SUMMARY:Key Clues Kick Off
CLASS:PUBLIC
DESCRIPTION:The University-wide puzzle-solving competition IS BACK FOR\n20
 23! Organized and run by volunteers from the Faculty of\nMathematics\, 
 the challenge is designed to be a team-based community\nengagement and dev
 elopment activity that encourages undergraduate\nstudents\, graduate stude
 nts\, postdoctoral fellows\, alumni\, staff\, and\nfaculty members to work
  together in groups of 3-6 to solve a series\nof puzzles over from Septem
 ber 27-30. The first team to solve all\npuzzles and submit their team’s 
 key at the secret location on campus\nwill be crowned the 2023 Enigma Cup
  Champions!\n\nJoin us for a the kick-off event on September 21\, in the D
 C 1301. \nRefreshments will be served
DTSTAMP:20260426T030732Z
END:VEVENT
END:VCALENDAR