BEGIN:VCALENDAR
VERSION:2.0
PRODID:-//Drupal iCal API//EN
X-WR-CALNAME:Events items teaser
X-WR-TIMEZONE:America/Toronto
BEGIN:VTIMEZONE
TZID:America/Toronto
X-LIC-LOCATION:America/Toronto
BEGIN:DAYLIGHT
TZNAME:EDT
TZOFFSETFROM:-0500
TZOFFSETTO:-0400
DTSTART:20230312T070000
END:DAYLIGHT
BEGIN:STANDARD
TZNAME:EST
TZOFFSETFROM:-0400
TZOFFSETTO:-0500
DTSTART:20221106T060000
END:STANDARD
END:VTIMEZONE
BEGIN:VEVENT
UID:69ed817609ecd
DTSTART;TZID=America/Toronto:20231005T143000
SEQUENCE:0
TRANSP:TRANSPARENT
DTEND;TZID=America/Toronto:20231005T153000
URL:https://uwaterloo.ca/math/events/key-clues-wrap
LOCATION:DC - William G. Davis Computer Research Centre - DC 1301 (Fishbowl
 ) 200 University Avenue West Waterloo ON N2L 3G1 Canada
SUMMARY:Key Clues Wrap Up
CLASS:PUBLIC
DESCRIPTION:Who will win the Enigma Cup for 2023? Join us to find out the 
 winners\nof Key Clues\, the campus-wide puzzle-solving competition.  The\
 nwinners will be revealed\, prizes awarded\, and refreshments served! 
DTSTAMP:20260426T030734Z
END:VEVENT
END:VCALENDAR