BEGIN:VCALENDAR
VERSION:2.0
PRODID:-//Drupal iCal API//EN
X-WR-CALNAME:Events items teaser
X-WR-TIMEZONE:America/Toronto
BEGIN:VTIMEZONE
TZID:America/Toronto
X-LIC-LOCATION:America/Toronto
BEGIN:DAYLIGHT
TZNAME:EDT
TZOFFSETFROM:-0500
TZOFFSETTO:-0400
DTSTART:20230312T070000
END:DAYLIGHT
BEGIN:STANDARD
TZNAME:EST
TZOFFSETFROM:-0400
TZOFFSETTO:-0500
DTSTART:20231105T060000
END:STANDARD
END:VTIMEZONE
BEGIN:VEVENT
UID:69ed062d2c2a1
DTSTART;TZID=America/Toronto:20231129T120000
SEQUENCE:0
TRANSP:TRANSPARENT
DTEND;TZID=America/Toronto:20231129T130000
URL:https://uwaterloo.ca/math/events/tour-physical-activities-complex-and-c
 olumbia-ice-field
LOCATION:PAC - Physical Activities Complex - Main Entrance (by the Jugo Jui
 ce) 200 University Avenue West Waterloo ON N2L 3G1 Canada
SUMMARY:Tour of Physical Activities Complex and Columbia Ice Field
CLASS:PUBLIC
DESCRIPTION:A tour of the Physical Activities Complex and Columbia Ice Fiel
 d for\nfaculty\, staff\, grad students\, and postdocs in the Faculty of Ma
 th
DTSTAMP:20260425T182133Z
END:VEVENT
END:VCALENDAR