BEGIN:VCALENDAR
VERSION:2.0
PRODID:-//Drupal iCal API//EN
X-WR-CALNAME:Events items teaser
X-WR-TIMEZONE:America/Toronto
BEGIN:VTIMEZONE
TZID:America/Toronto
X-LIC-LOCATION:America/Toronto
BEGIN:DAYLIGHT
TZNAME:EDT
TZOFFSETFROM:-0500
TZOFFSETTO:-0400
DTSTART:20240310T070000
END:DAYLIGHT
BEGIN:STANDARD
TZNAME:EST
TZOFFSETFROM:-0400
TZOFFSETTO:-0500
DTSTART:20231105T060000
END:STANDARD
END:VTIMEZONE
BEGIN:VEVENT
UID:69ed63f3f10ba
DTSTART;TZID=America/Toronto:20241031T173000
SEQUENCE:0
TRANSP:TRANSPARENT
DTEND;TZID=America/Toronto:20241031T190000
URL:https://uwaterloo.ca/math/events/women-waterloo-halloween-celebration
LOCATION:E7 - Engineering 7\, Atrium 200 University Ave West Waterloo ON N2
 L 3G1 Canada
SUMMARY:Women of Waterloo Halloween celebration
CLASS:PUBLIC
DESCRIPTION:Join Women in Math for a spooktacular Halloween celebration. Ki
 ck\nthings off with a light pizza dinner\, followed by a costume contest\,
 \nHalloween trivia\, a photo booth\, and fun mini-games (including the\nhi
 larious paper towel mummy wraps!).
DTSTAMP:20260426T010139Z
END:VEVENT
END:VCALENDAR