BEGIN:VCALENDAR
VERSION:2.0
PRODID:-//Drupal iCal API//EN
X-WR-CALNAME:Events items teaser
X-WR-TIMEZONE:America/Toronto
BEGIN:VTIMEZONE
TZID:America/Toronto
X-LIC-LOCATION:America/Toronto
BEGIN:DAYLIGHT
TZNAME:EDT
TZOFFSETFROM:-0500
TZOFFSETTO:-0400
DTSTART:20230312T070000
END:DAYLIGHT
BEGIN:STANDARD
TZNAME:EST
TZOFFSETFROM:-0400
TZOFFSETTO:-0500
DTSTART:20221106T060000
END:STANDARD
END:VTIMEZONE
BEGIN:VEVENT
UID:69ecdadaaad6d
DTSTART;TZID=America/Toronto:20231031T110000
SEQUENCE:0
TRANSP:TRANSPARENT
DTEND;TZID=America/Toronto:20231031T140000
URL:https://uwaterloo.ca/math/events/trig-or-treat-muo
LOCATION:MC - Mathematics &amp; Computer Building - 3rd Floor MC Comfy (MC 3001
 ) 200 University Avenue West Waterloo ON N2L 3G1 Canada
SUMMARY:Trig-Or-Treat With the MUO
CLASS:PUBLIC
DESCRIPTION:Halloween event for current University of Waterloo Math Undergr
 aduate\nstudents on October 31st from 11:00 a.m. to 2:00 p.m. The event wi
 ll\nprovide candy and prizes while supplies last.
DTSTAMP:20260425T151642Z
END:VEVENT
END:VCALENDAR