BEGIN:VCALENDAR
VERSION:2.0
PRODID:-//Drupal iCal API//EN
X-WR-CALNAME:Events items teaser
X-WR-TIMEZONE:America/Toronto
BEGIN:VTIMEZONE
TZID:America/Toronto
X-LIC-LOCATION:America/Toronto
BEGIN:DAYLIGHT
TZNAME:EDT
TZOFFSETFROM:-0500
TZOFFSETTO:-0400
DTSTART:20160313T070000
END:DAYLIGHT
BEGIN:STANDARD
TZNAME:EST
TZOFFSETFROM:-0400
TZOFFSETTO:-0500
DTSTART:20151101T060000
END:STANDARD
END:VTIMEZONE
BEGIN:VEVENT
UID:69e7dadaa5cce
DTSTART;TZID=America/Toronto:20160405T120000
SEQUENCE:0
TRANSP:TRANSPARENT
DTEND;TZID=America/Toronto:20160405T120000
URL:https://uwaterloo.ca/math/events/engage-click-discuss
SUMMARY:Engage\, Click\, Discuss
CLASS:PUBLIC
DESCRIPTION:Join us for a panel discussion on the use of clickers\n[https:/
 /uwaterloo.ca/centre-for-teaching-excellence/teaching-resources/teaching-t
 ips/educational-technologies/all/clickers]\nin Math and CS lectures\, feat
 uring\n\n* Shane Bauman (Dean's Office)\n * Ricardo Fukasawa (Combinatoric
 s &amp; Optimization)\n * Diana Skrzydlo (Statistics &amp; Actuarial Science)\n * 
 Dave Tompkins (Computer Science)\n\nPanelists will talk about their motiva
 tion to try clickers in the\nclassroom\, the challenges and the benefits.
DTSTAMP:20260421T201522Z
END:VEVENT
END:VCALENDAR