BEGIN:VCALENDAR
VERSION:2.0
PRODID:-//Drupal iCal API//EN
X-WR-CALNAME:Events items teaser
X-WR-TIMEZONE:America/Toronto
BEGIN:VTIMEZONE
TZID:America/Toronto
X-LIC-LOCATION:America/Toronto
BEGIN:DAYLIGHT
TZNAME:EDT
TZOFFSETFROM:-0500
TZOFFSETTO:-0400
DTSTART:20230312T070000
END:DAYLIGHT
BEGIN:STANDARD
TZNAME:EST
TZOFFSETFROM:-0400
TZOFFSETTO:-0500
DTSTART:20231105T060000
END:STANDARD
END:VTIMEZONE
BEGIN:VEVENT
UID:69ed81627fa97
DTSTART;TZID=America/Toronto:20231128T120000
SEQUENCE:0
TRANSP:TRANSPARENT
DTEND;TZID=America/Toronto:20231128T130000
URL:https://uwaterloo.ca/math/events/faculty-math-book-club-november
LOCATION:MC - Mathematics &amp; Computer Building Room 5201 200 University Aven
 ue West Waterloo ON N2L 3G1 Canada
SUMMARY:Faculty of Math Book Club- November
CLASS:PUBLIC
DESCRIPTION:A monthly book club for members of the Faculty of Math at Unive
 rsity\nof Waterloo.
DTSTAMP:20260426T030714Z
END:VEVENT
END:VCALENDAR