BEGIN:VCALENDAR
VERSION:2.0
PRODID:-//Drupal iCal API//EN
X-WR-CALNAME:Events items teaser
X-WR-TIMEZONE:America/Toronto
BEGIN:VTIMEZONE
TZID:America/Toronto
X-LIC-LOCATION:America/Toronto
BEGIN:DAYLIGHT
TZNAME:EDT
TZOFFSETFROM:-0500
TZOFFSETTO:-0400
DTSTART:20160313T070000
END:DAYLIGHT
BEGIN:STANDARD
TZNAME:EST
TZOFFSETFROM:-0400
TZOFFSETTO:-0500
DTSTART:20151101T060000
END:STANDARD
END:VTIMEZONE
BEGIN:VEVENT
UID:69e4c93976155
DTSTART;TZID=America/Toronto:20160720T090000
SEQUENCE:0
TRANSP:TRANSPARENT
DTEND;TZID=America/Toronto:20160720T170000
URL:https://uwaterloo.ca/math/events/fields-ug-summer-research-program-stud
 ents-visit-university
LOCATION:M3 - Mathematics 3 200 University Avenue West 3127 Waterloo ON N2L
  3G1 Canada
SUMMARY:Fields UG Summer Research Program Students visit to the University 
 of\nWaterloo’s Faculty of Mathematics
CLASS:PUBLIC
DESCRIPTION:FIELDS UG SUMMER RESEARCH PROGRAM STUDENTS VISIT TO THE UNIVERS
 ITY OF\nWATERLOO’S FACULTY OF MATHEMATICS\n\nSchedule of Events:\n\n9:00
  a.m.\n Departure from Fields Institute \n\n10:45 a.m. – 11:00 a.m.\n\n
 Arrival at the Faculty of Math / Refreshments\nM3 ATRIUM\n\n11:00 a.m. –
  11:15 a.m \n\nWelcome remarks - Information on University of Waterloo Ma
 th Graduate\nStudies\n\nSrinivasan Keshav\, Associate Dean of Graduate Stu
 dies
DTSTAMP:20260419T122321Z
END:VEVENT
END:VCALENDAR