BEGIN:VCALENDAR
VERSION:2.0
PRODID:-//Drupal iCal API//EN
X-WR-CALNAME:Events items teaser
X-WR-TIMEZONE:America/Toronto
BEGIN:VTIMEZONE
TZID:America/Toronto
X-LIC-LOCATION:America/Toronto
BEGIN:DAYLIGHT
TZNAME:EDT
TZOFFSETFROM:-0500
TZOFFSETTO:-0400
DTSTART:20230312T070000
END:DAYLIGHT
BEGIN:STANDARD
TZNAME:EST
TZOFFSETFROM:-0400
TZOFFSETTO:-0500
DTSTART:20231105T060000
END:STANDARD
END:VTIMEZONE
BEGIN:VEVENT
UID:69ecdaee2da8f
DTSTART;TZID=America/Toronto:20231127T170000
SEQUENCE:0
TRANSP:TRANSPARENT
DTEND;TZID=America/Toronto:20231127T200000
URL:https://uwaterloo.ca/math/events/destress-muo-snacks-facts
LOCATION:MC - Mathematics &amp; Computer Building\, 3rd Floor 200 University Av
 enue West Waterloo ON N2L 3G1 Canada
SUMMARY:Destress with The MUO: Snacks &amp; Facts
CLASS:PUBLIC
DESCRIPTION:A de-stress event for current University of Waterloo Math\nUnde
 rgraduate students on November 27th from 5:00pm to 8:00pm. Hot\nchocolate\
 , cookies\, and snacks will be while qusantities last.
DTSTAMP:20260425T151702Z
END:VEVENT
END:VCALENDAR