BEGIN:VCALENDAR
VERSION:2.0
PRODID:-//Drupal iCal API//EN
X-WR-CALNAME:Events items teaser
X-WR-TIMEZONE:America/Toronto
BEGIN:VTIMEZONE
TZID:America/Toronto
X-LIC-LOCATION:America/Toronto
BEGIN:DAYLIGHT
TZNAME:EDT
TZOFFSETFROM:-0500
TZOFFSETTO:-0400
DTSTART:20230312T070000
END:DAYLIGHT
BEGIN:STANDARD
TZNAME:EST
TZOFFSETFROM:-0400
TZOFFSETTO:-0500
DTSTART:20231105T060000
END:STANDARD
END:VTIMEZONE
BEGIN:VEVENT
UID:69e8fe4c0c3e0
DTSTART;TZID=America/Toronto:20240118T170000
SEQUENCE:0
TRANSP:TRANSPARENT
DTEND;TZID=America/Toronto:20240118T193000
URL:https://uwaterloo.ca/math/events/queer-film-series-celluloid-closet
SUMMARY:Queer Film Series - The Celluloid Closet
CLASS:PUBLIC
DESCRIPTION:A monthly film series featuring a screening of a film with quee
 r\nthemes and discussion.  
DTSTAMP:20260422T165852Z
END:VEVENT
END:VCALENDAR