BEGIN:VCALENDAR
VERSION:2.0
PRODID:-//Drupal iCal API//EN
X-WR-CALNAME:Events items teaser
X-WR-TIMEZONE:America/Toronto
BEGIN:VTIMEZONE
TZID:America/Toronto
X-LIC-LOCATION:America/Toronto
BEGIN:DAYLIGHT
TZNAME:EDT
TZOFFSETFROM:-0500
TZOFFSETTO:-0400
DTSTART:20230312T070000
END:DAYLIGHT
BEGIN:STANDARD
TZNAME:EST
TZOFFSETFROM:-0400
TZOFFSETTO:-0500
DTSTART:20231105T060000
END:STANDARD
END:VTIMEZONE
BEGIN:VEVENT
UID:69ed0623a0366
DTSTART;TZID=America/Toronto:20240116T120000
SEQUENCE:0
TRANSP:TRANSPARENT
DTEND;TZID=America/Toronto:20240116T130000
URL:https://uwaterloo.ca/math/events/lunch-and-learn-zentangle
LOCATION:MC - Mathematics &amp; Computer Building\, Room 5479 200 University Av
 enue West Waterloo ON N2L 3G1 Canada
SUMMARY:Lunch and Learn: Zentangle
CLASS:PUBLIC
DESCRIPTION:A lunch and learn session for members of the Faculty of Math. 
  This\nsession features Zentangle\, an easy-to-learn\, relaxing\, and fun 
 way to\ncreate images by drawing structured patterns.
DTSTAMP:20260425T182123Z
END:VEVENT
END:VCALENDAR