BEGIN:VCALENDAR
VERSION:2.0
PRODID:-//Drupal iCal API//EN
X-WR-CALNAME:Events items teaser
X-WR-TIMEZONE:America/Toronto
BEGIN:VTIMEZONE
TZID:America/Toronto
X-LIC-LOCATION:America/Toronto
BEGIN:DAYLIGHT
TZNAME:EDT
TZOFFSETFROM:-0500
TZOFFSETTO:-0400
DTSTART:20230312T070000
END:DAYLIGHT
BEGIN:STANDARD
TZNAME:EST
TZOFFSETFROM:-0400
TZOFFSETTO:-0500
DTSTART:20231105T060000
END:STANDARD
END:VTIMEZONE
BEGIN:VEVENT
UID:69ed2ddda6331
DTSTART;TZID=America/Toronto:20240125T160000
SEQUENCE:0
TRANSP:TRANSPARENT
DTEND;TZID=America/Toronto:20240125T173000
URL:https://uwaterloo.ca/math/events/rock-climbing
LOCATION:PAC - Physical Activities Complex - Rock Climbing Wall 200 Univers
 ity Avenue West Waterloo ON N2L 3G1 Canada
SUMMARY:Rock Climbing
CLASS:PUBLIC
DESCRIPTION:Rock Climbing at the PAC for staff\, faculty\, post docs\, and 
 grad\nstudents in the Faculty of Math
DTSTAMP:20260425T211053Z
END:VEVENT
END:VCALENDAR