BEGIN:VCALENDAR
VERSION:2.0
PRODID:-//Drupal iCal API//EN
X-WR-CALNAME:Events items teaser
X-WR-TIMEZONE:America/Toronto
BEGIN:VTIMEZONE
TZID:America/Toronto
X-LIC-LOCATION:America/Toronto
BEGIN:DAYLIGHT
TZNAME:EDT
TZOFFSETFROM:-0500
TZOFFSETTO:-0400
DTSTART:20230312T070000
END:DAYLIGHT
BEGIN:STANDARD
TZNAME:EST
TZOFFSETFROM:-0400
TZOFFSETTO:-0500
DTSTART:20231105T060000
END:STANDARD
END:VTIMEZONE
BEGIN:VEVENT
UID:69ed81680900e
DTSTART;TZID=America/Toronto:20240122T170000
SEQUENCE:0
TRANSP:TRANSPARENT
DTEND;TZID=America/Toronto:20240122T200000
URL:https://uwaterloo.ca/math/events/active-bystander-intervention-training
 -student-session
SUMMARY:Active Bystander Intervention Training - Student Session
CLASS:PUBLIC
DESCRIPTION:A training session for students that provides context and skill
 s to\nhelp people intervene when they see harmful behaviour.
DTSTAMP:20260426T030720Z
END:VEVENT
END:VCALENDAR