BEGIN:VCALENDAR
VERSION:2.0
PRODID:-//Drupal iCal API//EN
X-WR-CALNAME:Events items teaser
X-WR-TIMEZONE:America/Toronto
BEGIN:VTIMEZONE
TZID:America/Toronto
X-LIC-LOCATION:America/Toronto
BEGIN:DAYLIGHT
TZNAME:EDT
TZOFFSETFROM:-0500
TZOFFSETTO:-0400
DTSTART:20230312T070000
END:DAYLIGHT
BEGIN:STANDARD
TZNAME:EST
TZOFFSETFROM:-0400
TZOFFSETTO:-0500
DTSTART:20231105T060000
END:STANDARD
END:VTIMEZONE
BEGIN:VEVENT
UID:69ed062b1fa88
DTSTART;TZID=America/Toronto:20240226T120000
SEQUENCE:0
TRANSP:TRANSPARENT
DTEND;TZID=America/Toronto:20240226T130000
URL:https://uwaterloo.ca/math/events/earth-sciences-museum-tour
LOCATION:EIT - Centre for Environmental and Information Technology 200 Univ
 ersity Avenue West Waterloo ON N2L 3G1 Canada
SUMMARY:Earth Sciences Museum Tour
CLASS:PUBLIC
DESCRIPTION:A tour of the Earth Sciences Museum for members of the Faculty 
 of\nMath.
DTSTAMP:20260425T182131Z
END:VEVENT
END:VCALENDAR