BEGIN:VCALENDAR
VERSION:2.0
PRODID:-//Drupal iCal API//EN
X-WR-CALNAME:Events items teaser
X-WR-TIMEZONE:America/Toronto
BEGIN:VTIMEZONE
TZID:America/Toronto
X-LIC-LOCATION:America/Toronto
BEGIN:DAYLIGHT
TZNAME:EDT
TZOFFSETFROM:-0500
TZOFFSETTO:-0400
DTSTART:20230312T070000
END:DAYLIGHT
BEGIN:STANDARD
TZNAME:EST
TZOFFSETFROM:-0400
TZOFFSETTO:-0500
DTSTART:20231105T060000
END:STANDARD
END:VTIMEZONE
BEGIN:VEVENT
UID:69ed35693c0fd
DTSTART;TZID=America/Toronto:20240228T120000
SEQUENCE:0
TRANSP:TRANSPARENT
DTEND;TZID=America/Toronto:20240228T130000
URL:https://uwaterloo.ca/math/events/juggling
LOCATION:MC - Mathematics &amp; Computer Building - Room 5501 200 University Av
 enue West Waterloo ON N2L 3G1 Canada
SUMMARY:Juggling
CLASS:PUBLIC
DESCRIPTION:A drop-in juggling session for members of the Faculty of Math.
DTSTAMP:20260425T214305Z
END:VEVENT
END:VCALENDAR