BEGIN:VCALENDAR
VERSION:2.0
PRODID:-//Drupal iCal API//EN
X-WR-CALNAME:Events items teaser
X-WR-TIMEZONE:America/Toronto
BEGIN:VTIMEZONE
TZID:America/Toronto
X-LIC-LOCATION:America/Toronto
BEGIN:DAYLIGHT
TZNAME:EDT
TZOFFSETFROM:-0500
TZOFFSETTO:-0400
DTSTART:20230312T070000
END:DAYLIGHT
BEGIN:STANDARD
TZNAME:EST
TZOFFSETFROM:-0400
TZOFFSETTO:-0500
DTSTART:20231105T060000
END:STANDARD
END:VTIMEZONE
BEGIN:VEVENT
UID:69ecdae82923b
DTSTART;TZID=America/Toronto:20240227T120000
SEQUENCE:0
TRANSP:TRANSPARENT
DTEND;TZID=America/Toronto:20240227T130000
URL:https://uwaterloo.ca/math/events/craft-circle-february
LOCATION:MC - Mathematics &amp; Computer Building\, Room 5201 200 University Av
 enue West Waterloo ON N2L 3G1 Canada
SUMMARY:Craft Circle - February
CLASS:PUBLIC
DESCRIPTION:A drop-in craft circle for members of the Faculty of Math.  Th
 e\nfourth Tuesday of each month.
DTSTAMP:20260425T151656Z
END:VEVENT
END:VCALENDAR