BEGIN:VCALENDAR
VERSION:2.0
PRODID:-//Drupal iCal API//EN
X-WR-CALNAME:Events items teaser
X-WR-TIMEZONE:America/Toronto
BEGIN:VTIMEZONE
TZID:America/Toronto
X-LIC-LOCATION:America/Toronto
BEGIN:DAYLIGHT
TZNAME:EDT
TZOFFSETFROM:-0500
TZOFFSETTO:-0400
DTSTART:20230312T070000
END:DAYLIGHT
BEGIN:STANDARD
TZNAME:EST
TZOFFSETFROM:-0400
TZOFFSETTO:-0500
DTSTART:20231105T060000
END:STANDARD
END:VTIMEZONE
BEGIN:VEVENT
UID:69eca17cce715
DTSTART;TZID=America/Toronto:20240214T120000
SEQUENCE:0
TRANSP:TRANSPARENT
DTEND;TZID=America/Toronto:20240214T133000
URL:https://uwaterloo.ca/math/events/blm-journeys-black-mathematicians
LOCATION:DC - William G. Davis Computer Research Centre\, Room 1302 200 Uni
 versity Avenue West Waterloo ON N2L 3G1 Canada
SUMMARY:Black History Month Film Screening: Journeys of Black Mathematician
 s
CLASS:PUBLIC
DESCRIPTION:A screening of Journeys of Black Mathematicians: Forging Resili
 ence\, a\ndocumentary film by George Csicsery.
DTSTAMP:20260425T111156Z
END:VEVENT
END:VCALENDAR