BEGIN:VCALENDAR
VERSION:2.0
PRODID:-//Drupal iCal API//EN
X-WR-CALNAME:Events items teaser
X-WR-TIMEZONE:America/Toronto
BEGIN:VTIMEZONE
TZID:America/Toronto
X-LIC-LOCATION:America/Toronto
BEGIN:DAYLIGHT
TZNAME:EDT
TZOFFSETFROM:-0500
TZOFFSETTO:-0400
DTSTART:20230312T070000
END:DAYLIGHT
BEGIN:STANDARD
TZNAME:EST
TZOFFSETFROM:-0400
TZOFFSETTO:-0500
DTSTART:20231105T060000
END:STANDARD
END:VTIMEZONE
BEGIN:VEVENT
UID:69ecdaedb5a1d
DTSTART;TZID=America/Toronto:20240208T120000
SEQUENCE:0
TRANSP:TRANSPARENT
DTEND;TZID=America/Toronto:20240208T130000
URL:https://uwaterloo.ca/math/events/women-math-pizza-piazza
LOCATION:MC - Mathematics &amp; Computer Building - 3rd Floor Comfy lounge 200 
 University Avenue West Waterloo ON N2L 3G1 Canada
SUMMARY:Women in Math - Pizza Piazza
CLASS:PUBLIC
DESCRIPTION:An in-person gathering for women and gender minorities in Math.
   
DTSTAMP:20260425T151701Z
END:VEVENT
END:VCALENDAR