BEGIN:VCALENDAR
VERSION:2.0
PRODID:-//Drupal iCal API//EN
X-WR-CALNAME:Events items teaser
X-WR-TIMEZONE:America/Toronto
BEGIN:VTIMEZONE
TZID:America/Toronto
X-LIC-LOCATION:America/Toronto
BEGIN:DAYLIGHT
TZNAME:EDT
TZOFFSETFROM:-0500
TZOFFSETTO:-0400
DTSTART:20230312T070000
END:DAYLIGHT
BEGIN:STANDARD
TZNAME:EST
TZOFFSETFROM:-0400
TZOFFSETTO:-0500
DTSTART:20231105T060000
END:STANDARD
END:VTIMEZONE
BEGIN:VEVENT
UID:69ed81731a140
DTSTART;TZID=America/Toronto:20240306T140000
SEQUENCE:0
TRANSP:TRANSPARENT
DTEND;TZID=America/Toronto:20240306T160000
URL:https://uwaterloo.ca/math/events/cooking-club-session-grad-students
LOCATION:TJB - Toby Jenkins Applied Health Research Building- Nutrition Cen
 tre 340 Hagey Blvd Waterloo ON N2L 0A7 Canada
SUMMARY:Cooking Club Session - For Grad Students
CLASS:PUBLIC
DESCRIPTION:A cooking club session for grad students in the Faculty of Math
 .
DTSTAMP:20260426T030731Z
END:VEVENT
END:VCALENDAR