BEGIN:VCALENDAR
VERSION:2.0
PRODID:-//Drupal iCal API//EN
X-WR-CALNAME:Events items teaser
X-WR-TIMEZONE:America/Toronto
BEGIN:VTIMEZONE
TZID:America/Toronto
X-LIC-LOCATION:America/Toronto
BEGIN:DAYLIGHT
TZNAME:EDT
TZOFFSETFROM:-0500
TZOFFSETTO:-0400
DTSTART:20240310T070000
END:DAYLIGHT
BEGIN:STANDARD
TZNAME:EST
TZOFFSETFROM:-0400
TZOFFSETTO:-0500
DTSTART:20231105T060000
END:STANDARD
END:VTIMEZONE
BEGIN:VEVENT
UID:69ed062aaad60
DTSTART;TZID=America/Toronto:20240320T120000
SEQUENCE:0
TRANSP:TRANSPARENT
DTEND;TZID=America/Toronto:20240320T130000
URL:https://uwaterloo.ca/math/events/lunch-and-learn-how-not-kill-your-plan
 ts
LOCATION:DC - William G. Davis Computer Research Centre\, DC 1301 (Fishbowl
 ) 200 University Avenue West Waterloo ON N2L 3G1 Canada
SUMMARY:Lunch and Learn: How to not kill your plants
CLASS:PUBLIC
DESCRIPTION:A lunch and learn session for Faculty of Math members on plants
  and\nhow to care for them.
DTSTAMP:20260425T182130Z
END:VEVENT
END:VCALENDAR