BEGIN:VCALENDAR
VERSION:2.0
PRODID:-//Drupal iCal API//EN
X-WR-CALNAME:Events items teaser
X-WR-TIMEZONE:America/Toronto
BEGIN:VTIMEZONE
TZID:America/Toronto
X-LIC-LOCATION:America/Toronto
BEGIN:DAYLIGHT
TZNAME:EDT
TZOFFSETFROM:-0500
TZOFFSETTO:-0400
DTSTART:20240310T070000
END:DAYLIGHT
BEGIN:STANDARD
TZNAME:EST
TZOFFSETFROM:-0400
TZOFFSETTO:-0500
DTSTART:20231105T060000
END:STANDARD
END:VTIMEZONE
BEGIN:VEVENT
UID:69ed06279d782
DTSTART;TZID=America/Toronto:20241024T170000
SEQUENCE:0
TRANSP:TRANSPARENT
DTEND;TZID=America/Toronto:20241024T190000
URL:https://uwaterloo.ca/math/events/queer-film-series-beautiful-thing-1996
SUMMARY:Queer Film Series - Beautiful Thing (1996)
CLASS:PUBLIC
DESCRIPTION:Join us for the next screening in the Queer Film Series\, feat
 uring\n_Beautiful Thing [https://youtu.be/YeGBkXoOe6Q?si=oK-kqk4fAd8RXxyD]
 _ \n[https://youtu.be/YeGBkXoOe6Q?si=oK-kqk4fAd8RXxyD](1996).
DTSTAMP:20260425T182127Z
END:VEVENT
END:VCALENDAR