BEGIN:VCALENDAR
VERSION:2.0
PRODID:-//Drupal iCal API//EN
X-WR-CALNAME:Events items teaser
X-WR-TIMEZONE:America/Toronto
BEGIN:VTIMEZONE
TZID:America/Toronto
X-LIC-LOCATION:America/Toronto
BEGIN:DAYLIGHT
TZNAME:EDT
TZOFFSETFROM:-0500
TZOFFSETTO:-0400
DTSTART:20240310T070000
END:DAYLIGHT
BEGIN:STANDARD
TZNAME:EST
TZOFFSETFROM:-0400
TZOFFSETTO:-0500
DTSTART:20231105T060000
END:STANDARD
END:VTIMEZONE
BEGIN:VEVENT
UID:69ecdae6a8ba4
DTSTART;TZID=America/Toronto:20240404T123000
SEQUENCE:0
TRANSP:TRANSPARENT
DTEND;TZID=America/Toronto:20240404T150000
URL:https://uwaterloo.ca/math/events/muo-stress-event-bubble-tea-and-exam-k
 its
LOCATION:DC - William G. Davis Computer Research Centre 200 University Aven
 ue West Waterloo ON N2L 3G1 Canada
SUMMARY:MUO De-Stress Event: Bubble Tea and Exam Kits
CLASS:PUBLIC
DESCRIPTION:Undergraduate de-stress event with bubble tea and exam kits!
DTSTAMP:20260425T151654Z
END:VEVENT
END:VCALENDAR