BEGIN:VCALENDAR
VERSION:2.0
PRODID:-//Drupal iCal API//EN
X-WR-CALNAME:Events items teaser
X-WR-TIMEZONE:America/Toronto
BEGIN:VTIMEZONE
TZID:America/Toronto
X-LIC-LOCATION:America/Toronto
BEGIN:DAYLIGHT
TZNAME:EDT
TZOFFSETFROM:-0500
TZOFFSETTO:-0400
DTSTART:20230312T070000
END:DAYLIGHT
BEGIN:STANDARD
TZNAME:EST
TZOFFSETFROM:-0400
TZOFFSETTO:-0500
DTSTART:20231105T060000
END:STANDARD
END:VTIMEZONE
BEGIN:VEVENT
UID:69ed356a34935
DTSTART;TZID=America/Toronto:20240308T113000
SEQUENCE:0
TRANSP:TRANSPARENT
DTEND;TZID=America/Toronto:20240308T123000
URL:https://uwaterloo.ca/math/events/international-womens-day-panel-discuss
 ion
LOCATION:MC - Mathematics &amp; Computer Building\, Room 5501 200 University Av
 enue West Waterloo ON N2L 3G1 Canada
SUMMARY:International Women's Day: Panel Discussion
CLASS:PUBLIC
DESCRIPTION:Join the Women in Mathematics\n[https://uwaterloo.ca/women-in-m
 athematics/] committee to learn about\nthe challenges female mathematician
 s encountered in their academic\njourney and how they overcame them.\n\nA 
 light lunch will be provided.
DTSTAMP:20260425T214306Z
END:VEVENT
END:VCALENDAR