BEGIN:VCALENDAR
VERSION:2.0
PRODID:-//Drupal iCal API//EN
X-WR-CALNAME:Events items teaser
X-WR-TIMEZONE:America/Toronto
BEGIN:VTIMEZONE
TZID:America/Toronto
X-LIC-LOCATION:America/Toronto
BEGIN:DAYLIGHT
TZNAME:EDT
TZOFFSETFROM:-0500
TZOFFSETTO:-0400
DTSTART:20240310T070000
END:DAYLIGHT
BEGIN:STANDARD
TZNAME:EST
TZOFFSETFROM:-0400
TZOFFSETTO:-0500
DTSTART:20231105T060000
END:STANDARD
END:VTIMEZONE
BEGIN:VEVENT
UID:69ecdaeca7323
DTSTART;TZID=America/Toronto:20240319T163000
SEQUENCE:0
TRANSP:TRANSPARENT
DTEND;TZID=America/Toronto:20240319T173000
URL:https://uwaterloo.ca/math/events/math-innovation-event-fireside-chat
LOCATION:MC - Mathematics &amp; Computer Building\, Room 1085 200 University Av
 enue West Waterloo ON N2L 3G1 Canada
SUMMARY:Math Innovation Event: Fireside Chat
CLASS:PUBLIC
DESCRIPTION:Join Math Innovation [https://uwaterloo.ca/math-innovation/] fo
 r a\nFireside Chat with Scott Stevenson from Spellbook.\n\nRegistration is
  required.\n\nRefreshments and snacks will be provided during the Fireside
  Chat.
DTSTAMP:20260425T151700Z
END:VEVENT
END:VCALENDAR