BEGIN:VCALENDAR
VERSION:2.0
PRODID:-//Drupal iCal API//EN
X-WR-CALNAME:Events items teaser
X-WR-TIMEZONE:America/Toronto
BEGIN:VTIMEZONE
TZID:America/Toronto
X-LIC-LOCATION:America/Toronto
BEGIN:DAYLIGHT
TZNAME:EDT
TZOFFSETFROM:-0500
TZOFFSETTO:-0400
DTSTART:20230312T070000
END:DAYLIGHT
BEGIN:STANDARD
TZNAME:EST
TZOFFSETFROM:-0400
TZOFFSETTO:-0500
DTSTART:20231105T060000
END:STANDARD
END:VTIMEZONE
BEGIN:VEVENT
UID:69ecdae3a64a4
DTSTART;TZID=America/Toronto:20240309T083000
SEQUENCE:0
TRANSP:TRANSPARENT
DTEND;TZID=America/Toronto:20240309T160000
URL:https://uwaterloo.ca/math/events/international-womens-day-academia-or-i
 ndustry
LOCATION:SLC - Student Life Centre\, Graduate Student Lounge 200 University
  Avenue West Waterloo ON N2L 3G1 Canada
SUMMARY:International Women's Day: Academia or Industry?
CLASS:PUBLIC
DESCRIPTION:A workshop hosted by Women in Mathematics\n[https://uwaterloo.c
 a/women-in-mathematics/] graduate committee for 30\nMath graduate and post
 doc students.\n\nDuring this workshop you will:\n\n* Get a professional he
 adshot\n * Meet with alumni in both academia and industry\n * Connect with
  other graduate students
DTSTAMP:20260425T151651Z
END:VEVENT
END:VCALENDAR