BEGIN:VCALENDAR
VERSION:2.0
PRODID:-//Drupal iCal API//EN
X-WR-CALNAME:Events items teaser
X-WR-TIMEZONE:America/Toronto
BEGIN:VTIMEZONE
TZID:America/Toronto
X-LIC-LOCATION:America/Toronto
BEGIN:DAYLIGHT
TZNAME:EDT
TZOFFSETFROM:-0500
TZOFFSETTO:-0400
DTSTART:20240310T070000
END:DAYLIGHT
BEGIN:STANDARD
TZNAME:EST
TZOFFSETFROM:-0400
TZOFFSETTO:-0500
DTSTART:20231105T060000
END:STANDARD
END:VTIMEZONE
BEGIN:VEVENT
UID:69ed356b2ae4a
DTSTART;TZID=America/Toronto:20240320T130000
SEQUENCE:0
TRANSP:TRANSPARENT
DTEND;TZID=America/Toronto:20240320T150000
URL:https://uwaterloo.ca/math/events/paint-pot
LOCATION:DC - William G. Davis Computer Research Centre\, DC 1301 (Fishbowl
 ) 200 University Avenue West Waterloo ON N2L 3G1 Canada
SUMMARY:Paint-a-Pot
CLASS:PUBLIC
DESCRIPTION:Undergraduate students in the Faculty of Math are welcome to dr
 op in\nand decorate a terra cotta pot and take home a small succulent plan
 t.
DTSTAMP:20260425T214307Z
END:VEVENT
END:VCALENDAR