BEGIN:VCALENDAR
VERSION:2.0
PRODID:-//Drupal iCal API//EN
X-WR-CALNAME:Events items teaser
X-WR-TIMEZONE:America/Toronto
BEGIN:VTIMEZONE
TZID:America/Toronto
X-LIC-LOCATION:America/Toronto
BEGIN:DAYLIGHT
TZNAME:EDT
TZOFFSETFROM:-0500
TZOFFSETTO:-0400
DTSTART:20160313T070000
END:DAYLIGHT
BEGIN:STANDARD
TZNAME:EST
TZOFFSETFROM:-0400
TZOFFSETTO:-0500
DTSTART:20161106T060000
END:STANDARD
END:VTIMEZONE
BEGIN:VEVENT
UID:69ed63280e5fa
DTSTART;TZID=America/Toronto:20170127T130000
SEQUENCE:0
TRANSP:TRANSPARENT
DTEND;TZID=America/Toronto:20170127T130000
URL:https://uwaterloo.ca/math/events/mastering-literature-surveys-cs-gradua
 te-students
LOCATION:MC - Mathematics &amp; Computer Building 200 University Avenue West Ro
 om 5501 Waterloo ON N2L 3G1 Canada
SUMMARY:Mastering Literature Surveys for CS Graduate Students
CLASS:PUBLIC
DESCRIPTION:Every researcher has nightmares about running across prior work
  that\nanticipates--or worse\, invalidates--their own contributions. A\nth
 orough literature survey is essential to getting a good night’s\nsleep! 
 A careful survey will also allow you to absorb research\ntechniques and id
 eas from your peers.
DTSTAMP:20260426T005816Z
END:VEVENT
END:VCALENDAR