BEGIN:VCALENDAR
VERSION:2.0
PRODID:-//Drupal iCal API//EN
X-WR-CALNAME:Events items teaser
X-WR-TIMEZONE:America/Toronto
BEGIN:VTIMEZONE
TZID:America/Toronto
X-LIC-LOCATION:America/Toronto
BEGIN:DAYLIGHT
TZNAME:EDT
TZOFFSETFROM:-0500
TZOFFSETTO:-0400
DTSTART:20240310T070000
END:DAYLIGHT
BEGIN:STANDARD
TZNAME:EST
TZOFFSETFROM:-0400
TZOFFSETTO:-0500
DTSTART:20231105T060000
END:STANDARD
END:VTIMEZONE
BEGIN:VEVENT
UID:69ecdae636ce5
DTSTART;TZID=America/Toronto:20240416T120000
SEQUENCE:0
TRANSP:TRANSPARENT
DTEND;TZID=America/Toronto:20240416T130000
URL:https://uwaterloo.ca/math/events/lunch-learn-poetry-jon
LOCATION:MC - Mathematics &amp; Computer Building Room 5479 200 University Aven
 ue West Waterloo ON N2L 3G1 Canada
SUMMARY:Lunch &amp; Learn: Poetry with Jon
CLASS:PUBLIC
DESCRIPTION:Explore Haiku\, a very short form of poetry\, and take a pause 
 in the\nmiddle of your workday.
DTSTAMP:20260425T151654Z
END:VEVENT
END:VCALENDAR