BEGIN:VCALENDAR
VERSION:2.0
PRODID:-//Drupal iCal API//EN
X-WR-CALNAME:Events items teaser
X-WR-TIMEZONE:America/Toronto
BEGIN:VTIMEZONE
TZID:America/Toronto
X-LIC-LOCATION:America/Toronto
BEGIN:DAYLIGHT
TZNAME:EDT
TZOFFSETFROM:-0500
TZOFFSETTO:-0400
DTSTART:20240310T070000
END:DAYLIGHT
BEGIN:STANDARD
TZNAME:EST
TZOFFSETFROM:-0400
TZOFFSETTO:-0500
DTSTART:20231105T060000
END:STANDARD
END:VTIMEZONE
BEGIN:VEVENT
UID:69ed3575aa807
DTSTART;TZID=America/Toronto:20240503T090000
SEQUENCE:0
TRANSP:TRANSPARENT
DTEND;TZID=America/Toronto:20240503T120000
URL:https://uwaterloo.ca/math/events/indigenous-beading-workshop
LOCATION:MC - Mathematics &amp; Computer Building Room 5479 200 University Aven
 ue West Waterloo ON N2L 3G1 Canada
SUMMARY:Indigenous Beading Workshop
CLASS:PUBLIC
DESCRIPTION:To mark Red Dress Day\, the faculty of Math will be hosting a b
 eading\nworkshop. We have a limit of 15 participants and registration is\n
 required to attend this workshop.
DTSTAMP:20260425T214317Z
END:VEVENT
END:VCALENDAR