BEGIN:VCALENDAR
VERSION:2.0
PRODID:-//Drupal iCal API//EN
X-WR-CALNAME:Events items teaser
X-WR-TIMEZONE:America/Toronto
BEGIN:VTIMEZONE
TZID:America/Toronto
X-LIC-LOCATION:America/Toronto
BEGIN:DAYLIGHT
TZNAME:EDT
TZOFFSETFROM:-0500
TZOFFSETTO:-0400
DTSTART:20240310T070000
END:DAYLIGHT
BEGIN:STANDARD
TZNAME:EST
TZOFFSETFROM:-0400
TZOFFSETTO:-0500
DTSTART:20231105T060000
END:STANDARD
END:VTIMEZONE
BEGIN:VEVENT
UID:69ecdae1a5f8e
DTSTART;TZID=America/Toronto:20240530T120000
SEQUENCE:0
TRANSP:TRANSPARENT
DTEND;TZID=America/Toronto:20240530T130000
URL:https://uwaterloo.ca/math/events/faculty-math-book-club-may
LOCATION:MC - Mathematics &amp; Computer Building - MC 5479 (new location!) 200
  University Avenue West Waterloo ON N2L 3G1 Canada
SUMMARY:Faculty of Math Book Club - May
CLASS:PUBLIC
DESCRIPTION:A monthly book club for faculty\, staff\, graduate students\, a
 nd\npostdocs in the Faculty of Math at University of Waterloo.  This\nmon
 th's book is Yellowface by R.F. Kuang
DTSTAMP:20260425T151649Z
END:VEVENT
END:VCALENDAR