BEGIN:VCALENDAR
VERSION:2.0
PRODID:-//Drupal iCal API//EN
X-WR-CALNAME:Events items teaser
X-WR-TIMEZONE:America/Toronto
BEGIN:VTIMEZONE
TZID:America/Toronto
X-LIC-LOCATION:America/Toronto
BEGIN:DAYLIGHT
TZNAME:EDT
TZOFFSETFROM:-0500
TZOFFSETTO:-0400
DTSTART:20250309T070000
END:DAYLIGHT
BEGIN:STANDARD
TZNAME:EST
TZOFFSETFROM:-0400
TZOFFSETTO:-0500
DTSTART:20241103T060000
END:STANDARD
END:VTIMEZONE
BEGIN:VEVENT
UID:69ecdae43e2c9
DTSTART;TZID=America/Toronto:20251009T110000
SEQUENCE:0
TRANSP:TRANSPARENT
DTEND;TZID=America/Toronto:20251009T140000
URL:https://uwaterloo.ca/math/events/national-coming-out-day
LOCATION:MC - Mathematics &amp; Computer Building\, 3rd floor outside Math CnD 
 200 University Avenue West Waterloo ON N2L 3G1 Canada
SUMMARY:National Coming Out Day Celebration
CLASS:PUBLIC
DESCRIPTION:Join the Faculty of Mathematics Equity Office as we celebrate N
 ational\nComing Out Day.
DTSTAMP:20260425T151652Z
END:VEVENT
END:VCALENDAR