BEGIN:VCALENDAR
VERSION:2.0
PRODID:-//Drupal iCal API//EN
X-WR-CALNAME:Events items teaser
X-WR-TIMEZONE:America/Toronto
BEGIN:VTIMEZONE
TZID:America/Toronto
X-LIC-LOCATION:America/Toronto
BEGIN:DAYLIGHT
TZNAME:EDT
TZOFFSETFROM:-0500
TZOFFSETTO:-0400
DTSTART:20240310T070000
END:DAYLIGHT
BEGIN:STANDARD
TZNAME:EST
TZOFFSETFROM:-0400
TZOFFSETTO:-0500
DTSTART:20231105T060000
END:STANDARD
END:VTIMEZONE
BEGIN:VEVENT
UID:69ecdae4abbec
DTSTART;TZID=America/Toronto:20240919T170000
SEQUENCE:0
TRANSP:TRANSPARENT
DTEND;TZID=America/Toronto:20240919T190000
URL:https://uwaterloo.ca/math/events/queer-film-series-shiva-baby
SUMMARY:Queer Film Series: Shiva Baby
CLASS:PUBLIC
DESCRIPTION:Join us for the screening of Shiva Baby\n[https://www.youtube.c
 om/watch?v=3y9Da-91t-I]. This acclaimed film\noffers a sharp\, comedic\, 
 and often chaotic look at a young woman's\nconfrontation with her past\, f
 amily expectations\, and her identity\,\nall unfolding during a shiva\, a 
 Jewish mourning ceremony.
DTSTAMP:20260425T151652Z
END:VEVENT
END:VCALENDAR