BEGIN:VCALENDAR
VERSION:2.0
PRODID:-//Drupal iCal API//EN
X-WR-CALNAME:Events items teaser
X-WR-TIMEZONE:America/Toronto
BEGIN:VTIMEZONE
TZID:America/Toronto
X-LIC-LOCATION:America/Toronto
BEGIN:DAYLIGHT
TZNAME:EDT
TZOFFSETFROM:-0500
TZOFFSETTO:-0400
DTSTART:20180311T070000
END:DAYLIGHT
BEGIN:STANDARD
TZNAME:EST
TZOFFSETFROM:-0400
TZOFFSETTO:-0500
DTSTART:20181104T060000
END:STANDARD
END:VTIMEZONE
BEGIN:VEVENT
UID:69ed39ee679a3
DTSTART;TZID=America/Toronto:20181106T163000
SEQUENCE:0
TRANSP:TRANSPARENT
DTEND;TZID=America/Toronto:20181106T173000
URL:https://uwaterloo.ca/math/events/1b-math-co-op-information-session
LOCATION:MC 4059
SUMMARY:1B Math Co-op Information Session
CLASS:PUBLIC
DESCRIPTION:This information session will be of interest to 1B Math student
 s who\nare interested in applying to the co-op program.
DTSTAMP:20260425T220222Z
END:VEVENT
END:VCALENDAR