BEGIN:VCALENDAR
VERSION:2.0
PRODID:-//Drupal iCal API//EN
X-WR-CALNAME:Events items teaser
X-WR-TIMEZONE:America/Toronto
BEGIN:VTIMEZONE
TZID:America/Toronto
X-LIC-LOCATION:America/Toronto
BEGIN:DAYLIGHT
TZNAME:EDT
TZOFFSETFROM:-0500
TZOFFSETTO:-0400
DTSTART:20240310T070000
END:DAYLIGHT
BEGIN:STANDARD
TZNAME:EST
TZOFFSETFROM:-0400
TZOFFSETTO:-0500
DTSTART:20231105T060000
END:STANDARD
END:VTIMEZONE
BEGIN:VEVENT
UID:69ed3578b5de0
DTSTART;TZID=America/Toronto:20240603T110000
SEQUENCE:0
TRANSP:TRANSPARENT
DTEND;TZID=America/Toronto:20240603T130000
URL:https://uwaterloo.ca/math/events/celebrate-pride
LOCATION:MC - Mathematics &amp; Computer Building - 3rd Floor by the C&amp;D 200 Un
 iversity Avenue West Waterloo ON N2L 3G1 Canada
SUMMARY:Celebrate Pride!
CLASS:PUBLIC
DESCRIPTION:An event to kick off Pride month in the Facuilty of Math.
DTSTAMP:20260425T214320Z
END:VEVENT
END:VCALENDAR