BEGIN:VCALENDAR
VERSION:2.0
PRODID:-//Drupal iCal API//EN
X-WR-CALNAME:Events items teaser
X-WR-TIMEZONE:America/Toronto
BEGIN:VTIMEZONE
TZID:America/Toronto
X-LIC-LOCATION:America/Toronto
BEGIN:DAYLIGHT
TZNAME:EDT
TZOFFSETFROM:-0500
TZOFFSETTO:-0400
DTSTART:20240310T070000
END:DAYLIGHT
BEGIN:STANDARD
TZNAME:EST
TZOFFSETFROM:-0400
TZOFFSETTO:-0500
DTSTART:20231105T060000
END:STANDARD
END:VTIMEZONE
BEGIN:VEVENT
UID:69ed81741342e
DTSTART;TZID=America/Toronto:20240606T120000
SEQUENCE:0
TRANSP:TRANSPARENT
DTEND;TZID=America/Toronto:20240606T130000
URL:https://uwaterloo.ca/math/events/boardgames-and-puzzles
LOCATION:MC - Mathematics &amp; Computer Building - MC 5501 200 University Aven
 ue West Waterloo ON N2L 3G1 Canada
SUMMARY:Lunch Break Board Games and Puzzles
CLASS:PUBLIC
DESCRIPTION:A board games and puzzles event during lunch break for faculty\
 , staff\,\ngraduate students\, and postdocs in the faculty of Math
DTSTAMP:20260426T030732Z
END:VEVENT
END:VCALENDAR