BEGIN:VCALENDAR
VERSION:2.0
PRODID:-//Drupal iCal API//EN
X-WR-CALNAME:Events items teaser
X-WR-TIMEZONE:America/Toronto
BEGIN:VTIMEZONE
TZID:America/Toronto
X-LIC-LOCATION:America/Toronto
BEGIN:DAYLIGHT
TZNAME:EDT
TZOFFSETFROM:-0500
TZOFFSETTO:-0400
DTSTART:20240310T070000
END:DAYLIGHT
BEGIN:STANDARD
TZNAME:EST
TZOFFSETFROM:-0400
TZOFFSETTO:-0500
DTSTART:20231105T060000
END:STANDARD
END:VTIMEZONE
BEGIN:VEVENT
UID:69ecda9ab3945
DTSTART;TZID=America/Toronto:20240625T133000
SEQUENCE:0
TRANSP:TRANSPARENT
DTEND;TZID=America/Toronto:20240625T150000
URL:https://uwaterloo.ca/math/events/touring-special-collections-pride-edit
 ion
LOCATION:LIB - Dana Porter Library 200 University Avenue West Waterloo ON N
 2L 3G1 Canada
SUMMARY:Touring Special Collections: Pride Edition
CLASS:PUBLIC
DESCRIPTION:A guided tour of the rare books and archival collections of the
  Dana\nPorter Library for members of the Faculty of Mathematics.
DTSTAMP:20260425T151538Z
END:VEVENT
END:VCALENDAR