BEGIN:VCALENDAR
VERSION:2.0
PRODID:-//Drupal iCal API//EN
X-WR-CALNAME:Events items teaser
X-WR-TIMEZONE:America/Toronto
BEGIN:VTIMEZONE
TZID:America/Toronto
X-LIC-LOCATION:America/Toronto
BEGIN:DAYLIGHT
TZNAME:EDT
TZOFFSETFROM:-0500
TZOFFSETTO:-0400
DTSTART:20240310T070000
END:DAYLIGHT
BEGIN:STANDARD
TZNAME:EST
TZOFFSETFROM:-0400
TZOFFSETTO:-0500
DTSTART:20241103T060000
END:STANDARD
END:VTIMEZONE
BEGIN:VEVENT
UID:69ed0b26de198
DTSTART;TZID=America/Toronto:20241219T170000
SEQUENCE:0
TRANSP:TRANSPARENT
DTEND;TZID=America/Toronto:20241219T193000
URL:https://uwaterloo.ca/math/events/queer-film-series-rent
SUMMARY:Queer Film Series - Rent
CLASS:PUBLIC
DESCRIPTION:A free monthly film series offered through the Math Equity Offi
 ce\nfocusing on films with queer themes\, characters\, and stories. Open t
 o\neveryone on campus. December's film is Rent\n[https://www.imdb.com/titl
 e/tt0294870/?ref_=tt_mv_close].
DTSTAMP:20260425T184246Z
END:VEVENT
END:VCALENDAR