BEGIN:VCALENDAR
VERSION:2.0
PRODID:-//Drupal iCal API//EN
X-WR-CALNAME:Events items teaser
X-WR-TIMEZONE:America/Toronto
BEGIN:VTIMEZONE
TZID:America/Toronto
X-LIC-LOCATION:America/Toronto
BEGIN:DAYLIGHT
TZNAME:EDT
TZOFFSETFROM:-0500
TZOFFSETTO:-0400
DTSTART:20170312T070000
END:DAYLIGHT
BEGIN:STANDARD
TZNAME:EST
TZOFFSETFROM:-0400
TZOFFSETTO:-0500
DTSTART:20171105T060000
END:STANDARD
END:VTIMEZONE
BEGIN:VEVENT
UID:69e66407b0d79
DTSTART;TZID=America/Toronto:20171208T170000
SEQUENCE:0
TRANSP:TRANSPARENT
DTEND;TZID=America/Toronto:20171209T200000
URL:https://uwaterloo.ca/math/events/uw-hosted-canadian-mathematical-societ
 y-cms-public-events
SUMMARY:UW Hosted Canadian Mathematical Society (CMS) Public Events &amp; Lectu
 res
CLASS:PUBLIC
DESCRIPTION:[UW Mathematics and CMS logo]
DTSTAMP:20260420T173607Z
END:VEVENT
END:VCALENDAR