BEGIN:VCALENDAR
VERSION:2.0
PRODID:-//Drupal iCal API//EN
X-WR-CALNAME:Events items teaser
X-WR-TIMEZONE:America/Toronto
BEGIN:VTIMEZONE
TZID:America/Toronto
X-LIC-LOCATION:America/Toronto
BEGIN:DAYLIGHT
TZNAME:EDT
TZOFFSETFROM:-0500
TZOFFSETTO:-0400
DTSTART:20170312T070000
END:DAYLIGHT
BEGIN:STANDARD
TZNAME:EST
TZOFFSETFROM:-0400
TZOFFSETTO:-0500
DTSTART:20171105T060000
END:STANDARD
END:VTIMEZONE
BEGIN:VEVENT
UID:69e562d00d0be
DTSTART;TZID=America/Toronto:20171122T193000
SEQUENCE:0
TRANSP:TRANSPARENT
DTEND;TZID=America/Toronto:20171122T193000
URL:https://uwaterloo.ca/math/events/bridges-lecture-perfumery-art-and-scie
 nce-smell
LOCATION:STJ - St. Jerome's University 290 Westmount Road North Vanstone Le
 cture Hall Waterloo ON N2L 3G3 Canada
SUMMARY:Bridges Lecture: Perfumery: the art and science of smell
CLASS:PUBLIC
DESCRIPTION:LUCIA TURIN AND SASKIA WILSON-BROWN\n\nWhat\, exactly\, is fra
 grance? How might we discuss and theorize the\nsense of smell? Luca Turin 
 and Saskia Wilson-Brown confront these\nsurprisingly thorny questions and 
 argue that fragrance is an\nautonomous art which must be dealt with on its
  own terms\, a message in\na bottle. As Igor Stravinsky said of music\, fr
 agrance may be \"by its\nvery nature\, essentially powerless to express an
 ything at all\".
DTSTAMP:20260419T231840Z
END:VEVENT
END:VCALENDAR